BEGIN:VCALENDAR
VERSION:2.0
PRODID:-//National CAP - ECPv6.15.20//NONSGML v1.0//EN
CALSCALE:GREGORIAN
METHOD:PUBLISH
X-WR-CALNAME:National CAP
X-ORIGINAL-URL:https://communityactionpartnership.com
X-WR-CALDESC:Events for National CAP
REFRESH-INTERVAL;VALUE=DURATION:PT1H
X-Robots-Tag:noindex
X-PUBLISHED-TTL:PT1H
BEGIN:VTIMEZONE
TZID:UTC
BEGIN:STANDARD
TZOFFSETFROM:+0000
TZOFFSETTO:+0000
TZNAME:UTC
DTSTART:20210101T000000
END:STANDARD
END:VTIMEZONE
BEGIN:VEVENT
DTSTART;TZID=UTC:20220706T140000
DTEND;TZID=UTC:20220706T150000
DTSTAMP:20260421T161605
CREATED:20220616T225430Z
LAST-MODIFIED:20220624T164453Z
UID:75911-1657116000-1657119600@communityactionpartnership.com
SUMMARY:Fuzzy Futures: Managing Uncertainty with Scenario Planning
DESCRIPTION:TIME: 2 PM ET | 1 PM CT | 12 PM MT | 11 AM PT \nEvents like the COVID-19 pandemic provide sobering wake-up calls to Community Action leaders\, who must inspire and lead their teams through periods of unnerving uncertainty. To better prepare for surviving unpredictable\, unthinkable events or futures far from today’s reality\, attend this workshop to learn about the art of scenario planning. Leave the workshop with a basic understanding of 4 different scenario planning techniques and inspiration to adapt one to use in your agency. Presented by Melanie Herman\, Executive Director\, Nonprofit Risk Management Center. \nClick here to register.
URL:https://communityactionpartnership.com/event/fuzzy-futures-managing-uncertainty-with-scenario-planning/
CATEGORIES:Webinars
END:VEVENT
END:VCALENDAR