BEGIN:VCALENDAR
VERSION:2.0
PRODID:-//National CAP - ECPv6.15.20//NONSGML v1.0//EN
CALSCALE:GREGORIAN
METHOD:PUBLISH
X-WR-CALNAME:National CAP
X-ORIGINAL-URL:https://communityactionpartnership.com
X-WR-CALDESC:Events for National CAP
REFRESH-INTERVAL;VALUE=DURATION:PT1H
X-Robots-Tag:noindex
X-PUBLISHED-TTL:PT1H
BEGIN:VTIMEZONE
TZID:Pacific/Easter
BEGIN:STANDARD
TZOFFSETFROM:-0500
TZOFFSETTO:-0600
TZNAME:-06
DTSTART:20210404T030000
END:STANDARD
BEGIN:DAYLIGHT
TZOFFSETFROM:-0600
TZOFFSETTO:-0500
TZNAME:-05
DTSTART:20210905T040000
END:DAYLIGHT
BEGIN:STANDARD
TZOFFSETFROM:-0500
TZOFFSETTO:-0600
TZNAME:-06
DTSTART:20220403T030000
END:STANDARD
BEGIN:DAYLIGHT
TZOFFSETFROM:-0600
TZOFFSETTO:-0500
TZNAME:-05
DTSTART:20220911T040000
END:DAYLIGHT
BEGIN:STANDARD
TZOFFSETFROM:-0500
TZOFFSETTO:-0600
TZNAME:-06
DTSTART:20230402T030000
END:STANDARD
BEGIN:DAYLIGHT
TZOFFSETFROM:-0600
TZOFFSETTO:-0500
TZNAME:-05
DTSTART:20230903T040000
END:DAYLIGHT
END:VTIMEZONE
BEGIN:VEVENT
DTSTART;TZID=Pacific/Easter:20220413T140000
DTEND;TZID=Pacific/Easter:20220413T150000
DTSTAMP:20260421T215136
CREATED:20220301T212849Z
LAST-MODIFIED:20220310T131905Z
UID:71518-1649858400-1649862000@communityactionpartnership.com
SUMMARY:Forging a Pathway to Excellence for your Community Action Agency
DESCRIPTION:TIME: 2 PM ET | 1 PM CT | 12 PM MT | 11 AM PT \nEVENT DESCRIPTION: The last two years have reminded us why every community needs and deserves an excellent Community Action Agency. But how do you get there? How do you move beyond compliance and towards excellence? This webinar will discuss steps your agency can take to begin planning your excellence journey\, including how to prepare your agency for the next Pathways to Excellence cohort enrollment scheduled for early summer 2022. \nClick here to register.
URL:https://communityactionpartnership.com/event/forging-a-pathway-to-excellence-for-your-community-action-agency/
CATEGORIES:Webinars
END:VEVENT
END:VCALENDAR