BEGIN:VCALENDAR
VERSION:2.0
PRODID:-//National CAP - ECPv6.15.20//NONSGML v1.0//EN
CALSCALE:GREGORIAN
METHOD:PUBLISH
X-WR-CALNAME:National CAP
X-ORIGINAL-URL:https://communityactionpartnership.com
X-WR-CALDESC:Events for National CAP
REFRESH-INTERVAL;VALUE=DURATION:PT1H
X-Robots-Tag:noindex
X-PUBLISHED-TTL:PT1H
BEGIN:VTIMEZONE
TZID:UTC
BEGIN:STANDARD
TZOFFSETFROM:+0000
TZOFFSETTO:+0000
TZNAME:UTC
DTSTART:20210101T000000
END:STANDARD
END:VTIMEZONE
BEGIN:VEVENT
DTSTART;TZID=UTC:20220331T140000
DTEND;TZID=UTC:20220331T150000
DTSTAMP:20260421T215134
CREATED:20220321T165705Z
LAST-MODIFIED:20220324T193027Z
UID:71787-1648735200-1648738800@communityactionpartnership.com
SUMMARY:NCAP Launches New Partnership with Wipfli
DESCRIPTION:TIME: 2 PM ET | 1 PM CT | 12 PM MT | 11 AM PT \nDESCRIPTION: NCAP will be hosting a webinar with Wipfli on Thursday\, March 31\, at 2 ET / 1 CT / 12 MT / 11 PT to introduce our new partnership and provide an overview of the benefits available to NCAP members through Wipfli. Please consider joining us! \nClick here to register.
URL:https://communityactionpartnership.com/event/ncap-launches-new-partnership-with-wipfli/
CATEGORIES:Webinars
END:VEVENT
END:VCALENDAR