BEGIN:VCALENDAR
VERSION:2.0
PRODID:-//National CAP - ECPv6.15.20//NONSGML v1.0//EN
CALSCALE:GREGORIAN
METHOD:PUBLISH
X-ORIGINAL-URL:https://communityactionpartnership.com
X-WR-CALDESC:Events for National CAP
REFRESH-INTERVAL;VALUE=DURATION:PT1H
X-Robots-Tag:noindex
X-PUBLISHED-TTL:PT1H
BEGIN:VTIMEZONE
TZID:Pacific/Easter
BEGIN:STANDARD
TZOFFSETFROM:-0500
TZOFFSETTO:-0600
TZNAME:-06
DTSTART:20210404T030000
END:STANDARD
BEGIN:DAYLIGHT
TZOFFSETFROM:-0600
TZOFFSETTO:-0500
TZNAME:-05
DTSTART:20210905T040000
END:DAYLIGHT
BEGIN:STANDARD
TZOFFSETFROM:-0500
TZOFFSETTO:-0600
TZNAME:-06
DTSTART:20220403T030000
END:STANDARD
BEGIN:DAYLIGHT
TZOFFSETFROM:-0600
TZOFFSETTO:-0500
TZNAME:-05
DTSTART:20220911T040000
END:DAYLIGHT
BEGIN:STANDARD
TZOFFSETFROM:-0500
TZOFFSETTO:-0600
TZNAME:-06
DTSTART:20230402T030000
END:STANDARD
BEGIN:DAYLIGHT
TZOFFSETFROM:-0600
TZOFFSETTO:-0500
TZNAME:-05
DTSTART:20230903T040000
END:DAYLIGHT
END:VTIMEZONE
BEGIN:VEVENT
DTSTART;TZID=Pacific/Easter:20220330T140000
DTEND;TZID=Pacific/Easter:20220330T150000
DTSTAMP:20260421T215219
CREATED:20220211T131611Z
LAST-MODIFIED:20220310T131657Z
UID:71227-1648648800-1648652400@communityactionpartnership.com
SUMMARY:Organizational Self-Assessment: A Strategy to Build Capacity
DESCRIPTION:TIME: 2 PM ET | 1 PM CT | 12 PM MT | 11 AM PT \nEVENT DESCRIPTION: Is your organization looking to move to the next level\, but unsure where to start? The National Community Action Partnership is excited to launch a new Organizational Self-Assessment tool that is designed in partnership with the Nonprofit Risk Management Center specifically for Community Action Agencies to gain critical insight into key areas of organizational operation and strategy. This insight can help inform and focus agency action to strengthen practice and build capacity. This webinar will discuss the new tool\, its use\, and how to utilize the results to plan operational improvements to move your CAA towards excellence. \nClick here to register\,
URL:https://communityactionpartnership.com/event/organizational-self-assessment-a-strategy-to-build-capacity/
CATEGORIES:Webinars
END:VEVENT
END:VCALENDAR