BEGIN:VCALENDAR
VERSION:2.0
PRODID:-//National CAP - ECPv6.15.20//NONSGML v1.0//EN
CALSCALE:GREGORIAN
METHOD:PUBLISH
X-WR-CALNAME:National CAP
X-ORIGINAL-URL:https://communityactionpartnership.com
X-WR-CALDESC:Events for National CAP
REFRESH-INTERVAL;VALUE=DURATION:PT1H
X-Robots-Tag:noindex
X-PUBLISHED-TTL:PT1H
BEGIN:VTIMEZONE
TZID:Pacific/Easter
BEGIN:STANDARD
TZOFFSETFROM:-0500
TZOFFSETTO:-0600
TZNAME:-06
DTSTART:20210404T030000
END:STANDARD
BEGIN:DAYLIGHT
TZOFFSETFROM:-0600
TZOFFSETTO:-0500
TZNAME:-05
DTSTART:20210905T040000
END:DAYLIGHT
BEGIN:STANDARD
TZOFFSETFROM:-0500
TZOFFSETTO:-0600
TZNAME:-06
DTSTART:20220403T030000
END:STANDARD
BEGIN:DAYLIGHT
TZOFFSETFROM:-0600
TZOFFSETTO:-0500
TZNAME:-05
DTSTART:20220911T040000
END:DAYLIGHT
BEGIN:STANDARD
TZOFFSETFROM:-0500
TZOFFSETTO:-0600
TZNAME:-06
DTSTART:20230402T030000
END:STANDARD
BEGIN:DAYLIGHT
TZOFFSETFROM:-0600
TZOFFSETTO:-0500
TZNAME:-05
DTSTART:20230903T040000
END:DAYLIGHT
END:VTIMEZONE
BEGIN:VEVENT
DTSTART;TZID=Pacific/Easter:20220314T140000
DTEND;TZID=Pacific/Easter:20220314T150000
DTSTAMP:20260421T230502
CREATED:20220210T202514Z
LAST-MODIFIED:20220310T130158Z
UID:71219-1647266400-1647270000@communityactionpartnership.com
SUMMARY:NCAP/Amazon Business Launch
DESCRIPTION:TIME: 2 PM ET | 1 PM CT | 12 PM MT | 11 AM PT \nEVENT DESCRIPTION: National Community Action Partnership is pleased to announce Amazon Business for members. With Amazon Business\, all National Community Action Partnership members can access hundreds of thousands of sellers who offer business-only selection\, quantity discounts\, and time-saving features that help businesses run better. Business leaders enjoy convenient shipping options on hundreds of millions of supplies across categories including IT\, office\, breakroom\, janitorial\, and personal protective equipment. \nClick here to register.
URL:https://communityactionpartnership.com/event/ncap-amazon-business-launch/
CATEGORIES:Webinars
END:VEVENT
END:VCALENDAR