BEGIN:VCALENDAR
VERSION:2.0
PRODID:-//National CAP - ECPv6.15.20//NONSGML v1.0//EN
CALSCALE:GREGORIAN
METHOD:PUBLISH
X-WR-CALNAME:National CAP
X-ORIGINAL-URL:https://communityactionpartnership.com
X-WR-CALDESC:Events for National CAP
REFRESH-INTERVAL;VALUE=DURATION:PT1H
X-Robots-Tag:noindex
X-PUBLISHED-TTL:PT1H
BEGIN:VTIMEZONE
TZID:UTC
BEGIN:STANDARD
TZOFFSETFROM:+0000
TZOFFSETTO:+0000
TZNAME:UTC
DTSTART:20210101T000000
END:STANDARD
END:VTIMEZONE
BEGIN:VEVENT
DTSTART;TZID=UTC:20220222T140000
DTEND;TZID=UTC:20220222T150000
DTSTAMP:20260422T003739
CREATED:20220211T151516Z
LAST-MODIFIED:20220211T151516Z
UID:71234-1645538400-1645542000@communityactionpartnership.com
SUMMARY:Empowering Communities: Advocacy and Lobbying Rules in a Fair Districting Context
DESCRIPTION:The decennial districting process is in full swing! New congressional\, state\, and local elected official districts are being drawn and some have already been finalized. But what are the dos and don’ts for weighing-in on new maps? At the Partnership\, our Fair Districting project is up and running\, ready to assist the Network as it engages on this issue. We’ve partnered with Bolder Advocacy to present advocacy and lobbying rules for nonprofits who want to make their voices heard on fair districting in their communities. Join us to learn about the role our Network can play in this crucial process! \nClick here to register.
URL:https://communityactionpartnership.com/event/empowering-communities-advocacy-and-lobbying-rules-in-a-fair-districting-context/
CATEGORIES:Webinars
END:VEVENT
END:VCALENDAR