BEGIN:VCALENDAR
VERSION:2.0
PRODID:-//National CAP - ECPv6.15.20//NONSGML v1.0//EN
CALSCALE:GREGORIAN
METHOD:PUBLISH
X-WR-CALNAME:National CAP
X-ORIGINAL-URL:https://communityactionpartnership.com
X-WR-CALDESC:Events for National CAP
REFRESH-INTERVAL;VALUE=DURATION:PT1H
X-Robots-Tag:noindex
X-PUBLISHED-TTL:PT1H
BEGIN:VTIMEZONE
TZID:UTC
BEGIN:STANDARD
TZOFFSETFROM:+0000
TZOFFSETTO:+0000
TZNAME:UTC
DTSTART:20210101T000000
END:STANDARD
END:VTIMEZONE
BEGIN:VEVENT
DTSTART;TZID=UTC:20220127T140000
DTEND;TZID=UTC:20220127T150000
DTSTAMP:20260422T101905
CREATED:20220124T155618Z
LAST-MODIFIED:20220124T155618Z
UID:71114-1643292000-1643295600@communityactionpartnership.com
SUMMARY:LIHWAP and Community Action
DESCRIPTION:Join the federal Office of Community Services (OCS)\, CAPLAW\, and the National Community Action Partnership for a webinar on Thursday\, January 27th discussing the critical role that the Community Action network can play in facilitating the Low-Income Home Water Assistance Program (LIHWAP). With over $1.1 billion in new emergency funding\, LIHWAP helps low-income households maintain access to drinking water and wastewater services by paying for water utility reconnections and bills. Grant recipients may work with local CAAs to distribute LIHWAP funding to benefit eligible households. \nThe webinar will feature three CAAs sharing their experiences planning for and launching their LIHWAP programs\, and how they are leveraging other sources of funding such as Emergency Rental Assistance\, LIHEAP\, and CSBG\, to provide utilities assistance to their communities. CAPLAW will also discuss its new resource\, LIHWAP: A Primer for the Community Action Network\, which is an online guide that helps the Community Action network navigate the program and better understand the role that CAAs may play in facilitating the funding. The resource incorporates current federal guidance and addresses aspects of the program critical to Community Action. \nClick here to register for the webinar.
URL:https://communityactionpartnership.com/event/lihwap-and-community-action/
CATEGORIES:Webinars
END:VEVENT
END:VCALENDAR