BEGIN:VCALENDAR
VERSION:2.0
PRODID:-//National CAP - ECPv6.15.20//NONSGML v1.0//EN
CALSCALE:GREGORIAN
METHOD:PUBLISH
X-ORIGINAL-URL:https://communityactionpartnership.com
X-WR-CALDESC:Events for National CAP
REFRESH-INTERVAL;VALUE=DURATION:PT1H
X-Robots-Tag:noindex
X-PUBLISHED-TTL:PT1H
BEGIN:VTIMEZONE
TZID:UTC
BEGIN:STANDARD
TZOFFSETFROM:+0000
TZOFFSETTO:+0000
TZNAME:UTC
DTSTART:20200101T000000
END:STANDARD
END:VTIMEZONE
BEGIN:VEVENT
DTSTART;TZID=UTC:20210819T140000
DTEND;TZID=UTC:20210819T153000
DTSTAMP:20260422T223434
CREATED:20210610T145410Z
LAST-MODIFIED:20210819T141139Z
UID:69363-1629381600-1629387000@communityactionpartnership.com
SUMMARY:Accessing Resilience Resources from Public and Private Sources
DESCRIPTION:Resilience is a concept we have all learned much more about in the last year. Organizational resilience is key to continued operation and growth in complex times. Melanie Lockwood Herman\, Executive Director of the Nonprofit Risk Management Center\, will be presenting an eight-part webinar series on developing more resilient organizations with practical tools for non-profit and public organizations. Each webinar will feature concrete\, hands-on approaches to building resilience from the inside out. Melanie will break down the concept of organizational resilience into the eight key themes we all need to learn and know to strengthen our agencies and our teams. The webinars are being released in conjunction with a robust\, interactive Resilience Toolkit also available through the Partnership. \nJoin Melanie Herman\, CEO of the Nonprofit Risk Management Center\, for a fast-paced tour of resilience resources from various credible sources. This session explores federal and state government websites\, law firm and CPA firm sites\, educational publishers\, membership associations\, and specialty organizations. These trusted authority sites offer many free and low-cost resources available to help your agency build resilience. Learn how to maximize and adapt your agency’s learning to suit the needs of your mission. \nThe final webinar in this series will be How to Become the Resilient Leader Your Mission Requires. Register today to join this timely webinar. \nClick here to register.
URL:https://communityactionpartnership.com/event/accessing-resilience-resources-from-public-and-private-sources/
CATEGORIES:Webinars
ORGANIZER;CN="Community Action Partnership%2C National Office":MAILTO:registration@communityactionpartnership.com
END:VEVENT
END:VCALENDAR