BEGIN:VCALENDAR
VERSION:2.0
PRODID:-//National CAP - ECPv6.15.20//NONSGML v1.0//EN
CALSCALE:GREGORIAN
METHOD:PUBLISH
X-WR-CALNAME:National CAP
X-ORIGINAL-URL:https://communityactionpartnership.com
X-WR-CALDESC:Events for National CAP
REFRESH-INTERVAL;VALUE=DURATION:PT1H
X-Robots-Tag:noindex
X-PUBLISHED-TTL:PT1H
BEGIN:VTIMEZONE
TZID:UTC
BEGIN:STANDARD
TZOFFSETFROM:+0000
TZOFFSETTO:+0000
TZNAME:UTC
DTSTART:20200101T000000
END:STANDARD
END:VTIMEZONE
BEGIN:VEVENT
DTSTART;TZID=UTC:20210818T143000
DTEND;TZID=UTC:20210818T153000
DTSTAMP:20260422T223444
CREATED:20210806T152632Z
LAST-MODIFIED:20210806T152853Z
UID:69781-1629297000-1629300600@communityactionpartnership.com
SUMMARY:Measuring Family Centered Community Change: A Fireside Chat
DESCRIPTION:This webinar features a discussion of the experiences and lessons learned in the performance measurement efforts of Family-Centered Community Change (FCCC)\, a community change strategy\, funded by the Annie E. Casey Foundation from 2012 to 2019\, to improve outcomes for children and parents living in high-poverty communities through two-generation approaches. Topics covered in the webinar include an overview of the performance measures selected for FCCC and how they changed over time\, who was involved in deciding what to measure and how\, ways that the partners balanced using performance measurement to inform practice and track collective impact\, and how the data were analyzed and used to improve implementation. \nPanelists will include Anna Minsky (Metis Associates)\, Sebastian Schreiner (United Way of San Antonio and Bexar County) and Kimberly Spring (The Annie E. Casey Foundation). \nRegister Here
URL:https://communityactionpartnership.com/event/measuring-family-centered-community-change-a-fireside-chat/
CATEGORIES:Webinars
END:VEVENT
END:VCALENDAR