BEGIN:VCALENDAR
VERSION:2.0
PRODID:-//National CAP - ECPv6.15.20//NONSGML v1.0//EN
CALSCALE:GREGORIAN
METHOD:PUBLISH
X-ORIGINAL-URL:https://communityactionpartnership.com
X-WR-CALDESC:Events for National CAP
REFRESH-INTERVAL;VALUE=DURATION:PT1H
X-Robots-Tag:noindex
X-PUBLISHED-TTL:PT1H
BEGIN:VTIMEZONE
TZID:UTC
BEGIN:STANDARD
TZOFFSETFROM:+0000
TZOFFSETTO:+0000
TZNAME:UTC
DTSTART:20200101T000000
END:STANDARD
END:VTIMEZONE
BEGIN:VEVENT
DTSTART;TZID=UTC:20210726T120000
DTEND;TZID=UTC:20210726T130000
DTSTAMP:20260422T223433
CREATED:20210628T193228Z
LAST-MODIFIED:20210628T193228Z
UID:69515-1627300800-1627304400@communityactionpartnership.com
SUMMARY:The State of Women and Poverty Centering in Intersectional Narratives and Implications for the Future
DESCRIPTION:The alarming number of American women living in poverty is a recurring trend. With more women than men living in poverty in the US\, the COVID-19 pandemic has not only endangered the economic security of women but has put families at increased risk of falling into poverty and remaining there. During this webinar\, an intersectional analysis of women in poverty will consider the implications and opportunities for families and their health and well-being and imagine a new economy using an equity lens. \nRegister Here
URL:https://communityactionpartnership.com/event/the-state-of-women-and-poverty-centering-in-intersectional-narratives-and-implications-for-the-future/
CATEGORIES:Webinars
END:VEVENT
BEGIN:VEVENT
DTSTART;TZID=UTC:20210726T120000
DTEND;TZID=UTC:20210726T130000
DTSTAMP:20260422T223433
CREATED:20210713T182906Z
LAST-MODIFIED:20210713T182906Z
UID:69592-1627300800-1627304400@communityactionpartnership.com
SUMMARY:The State of Women and Poverty Centering in Intersectional Narratives and Implications for the Future
DESCRIPTION:Register Here
URL:https://communityactionpartnership.com/event/the-state-of-women-and-poverty-centering-in-intersectional-narratives-and-implications-for-the-future-2/
CATEGORIES:Webinars
END:VEVENT
END:VCALENDAR