BEGIN:VCALENDAR
VERSION:2.0
PRODID:-//National CAP - ECPv6.15.20//NONSGML v1.0//EN
CALSCALE:GREGORIAN
METHOD:PUBLISH
X-ORIGINAL-URL:https://communityactionpartnership.com
X-WR-CALDESC:Events for National CAP
REFRESH-INTERVAL;VALUE=DURATION:PT1H
X-Robots-Tag:noindex
X-PUBLISHED-TTL:PT1H
BEGIN:VTIMEZONE
TZID:UTC
BEGIN:STANDARD
TZOFFSETFROM:+0000
TZOFFSETTO:+0000
TZNAME:UTC
DTSTART:20200101T000000
END:STANDARD
END:VTIMEZONE
BEGIN:VEVENT
DTSTART;TZID=UTC:20210427T140000
DTEND;TZID=UTC:20210427T150000
DTSTAMP:20260423T084302
CREATED:20210419T112342Z
LAST-MODIFIED:20210419T112342Z
UID:68580-1619532000-1619535600@communityactionpartnership.com
SUMMARY:Public CAA Check-In
DESCRIPTION:The Center of Excellence is holding a Public CAA Listening Session Tuesday\, April 27th at 2 pm ET. We want to hear from you. We want to know how your agency is doing\, discuss upcoming webinars\, T/TA needs\, and much more! Please join us and register below. Please note\, this is specifically for Public Community Action Agencies (i.e. Community Action Agencies within a local government entity – in contrast to a nonprofit/private CAA).\n\nClick here to register for the webinar.
URL:https://communityactionpartnership.com/event/public-caa-check-in/
CATEGORIES:Webinars
END:VEVENT
END:VCALENDAR