BEGIN:VCALENDAR
VERSION:2.0
PRODID:-//National CAP - ECPv6.15.20//NONSGML v1.0//EN
CALSCALE:GREGORIAN
METHOD:PUBLISH
X-ORIGINAL-URL:https://communityactionpartnership.com
X-WR-CALDESC:Events for National CAP
REFRESH-INTERVAL;VALUE=DURATION:PT1H
X-Robots-Tag:noindex
X-PUBLISHED-TTL:PT1H
BEGIN:VTIMEZONE
TZID:UTC
BEGIN:STANDARD
TZOFFSETFROM:+0000
TZOFFSETTO:+0000
TZNAME:UTC
DTSTART:20200101T000000
END:STANDARD
END:VTIMEZONE
BEGIN:VEVENT
DTSTART;TZID=UTC:20210310T140000
DTEND;TZID=UTC:20210310T150000
DTSTAMP:20260423T084256
CREATED:20210304T190208Z
LAST-MODIFIED:20210310T150924Z
UID:67866-1615384800-1615388400@communityactionpartnership.com
SUMMARY:Practice Transformation Resource Tour
DESCRIPTION:Join us for this webinar to learn more about the National Partnership’s Practice Transformation Resources. These resources will help organizations’ apply evidence-based anti-poverty practices to better serve families. The Practice Transformation team supports organizations to transform their agencies and communities through the integration of services\, ongoing training and technical assistance\, and resource dissemination. We will tour training materials\, reports\, guides and upcoming opportunities to help you improve outcomes and identify effective\, promising\, and innovative practice models that alleviate the causes and conditions of poverty. Some of the content covered will include COVID-19 publications\, guides for developing a Whole Family/2-Gen Approach\, and tools for strengthening equity. \nClick here to register for the webinar.
URL:https://communityactionpartnership.com/event/practice-transformation-resource-tour/
CATEGORIES:Webinars
END:VEVENT
END:VCALENDAR