BEGIN:VCALENDAR
VERSION:2.0
PRODID:-//National CAP - ECPv6.15.20//NONSGML v1.0//EN
CALSCALE:GREGORIAN
METHOD:PUBLISH
X-ORIGINAL-URL:https://communityactionpartnership.com
X-WR-CALDESC:Events for National CAP
REFRESH-INTERVAL;VALUE=DURATION:PT1H
X-Robots-Tag:noindex
X-PUBLISHED-TTL:PT1H
BEGIN:VTIMEZONE
TZID:UTC
BEGIN:STANDARD
TZOFFSETFROM:+0000
TZOFFSETTO:+0000
TZNAME:UTC
DTSTART:20200101T000000
END:STANDARD
END:VTIMEZONE
BEGIN:VEVENT
DTSTART;TZID=UTC:20210106T120000
DTEND;TZID=UTC:20210106T133000
DTSTAMP:20260423T111836
CREATED:20201230T163749Z
LAST-MODIFIED:20201230T171214Z
UID:67332-1609934400-1609939800@communityactionpartnership.com
SUMMARY:An Overview of the $25 Billion Rental/Utility Assistance Provided in the New COVID Bill
DESCRIPTION:Earlier this week\, the new $900 billion stimulus bill was signed into law. Subtitle B of the COVID-19 Stimulus Package provides a temporary extension of the CDC eviction moratorium and establishes an emergency rental assistance program through the Department of Treasury\, providing $25 billion to help families and individuals pay their rent and utility bills and remain stably housed. \nJoin us on Wednesday\, January 6 at 12 ET / 11 CT / 10 MT / 9 PT for a webinar that will provide an overview of the language in the new stimulus bill and its emergency rental assistance provisions. We’ll discuss the 30-day implementation time frame provided for states\, and cover steps that State Associations can take to work with state leaders to allow Community Action Agencies to be part of the emergency rental assistance program. \nRegister
URL:https://communityactionpartnership.com/event/overview-new-covid-bill-rental-assistance/
CATEGORIES:Webinars
END:VEVENT
END:VCALENDAR