BEGIN:VCALENDAR
VERSION:2.0
PRODID:-//National CAP - ECPv6.15.20//NONSGML v1.0//EN
CALSCALE:GREGORIAN
METHOD:PUBLISH
X-WR-CALNAME:National CAP
X-ORIGINAL-URL:https://communityactionpartnership.com
X-WR-CALDESC:Events for National CAP
REFRESH-INTERVAL;VALUE=DURATION:PT1H
X-Robots-Tag:noindex
X-PUBLISHED-TTL:PT1H
BEGIN:VTIMEZONE
TZID:UTC
BEGIN:STANDARD
TZOFFSETFROM:+0000
TZOFFSETTO:+0000
TZNAME:UTC
DTSTART:20190101T000000
END:STANDARD
END:VTIMEZONE
BEGIN:VEVENT
DTSTART;TZID=UTC:20201211T140000
DTEND;TZID=UTC:20201211T153000
DTSTAMP:20260423T123314
CREATED:20201202T223651Z
LAST-MODIFIED:20201202T223651Z
UID:67010-1607695200-1607700600@communityactionpartnership.com
SUMMARY:Staying Well While Working in High Stress\, Traumatic Environment (Webinar for Supervisors)
DESCRIPTION:You and your staff are working very hard right now in the middle of a pandemic. You are balancing your family needs and you and your staff are working hard to meet the demands of the families you serve. \nWe now have over two decades of research demonstrating that working in high stress\, trauma-exposed professions\, carries risk to the staff. What can supervisors do to protect themselves and their staff before\, during and after an emotionally traumatic experience\, while remaining effective and compassionate? This webinar will provide new ideas for hands-on tools and resources for increasing you and your staff’s health and resiliency. This is the first of two webinars and is intended for supervisors\, the second webinar will be for additional staff members from Community Action Agencies and will be offered in January 2021. \nPresenters: Beth Reynolds Lewis & Kay Glidden – Co-Owners of Compassion Resiliency \nRegister
URL:https://communityactionpartnership.com/event/staying-well-while-working/
CATEGORIES:Webinars
END:VEVENT
END:VCALENDAR