BEGIN:VCALENDAR
VERSION:2.0
PRODID:-//National CAP - ECPv6.15.20//NONSGML v1.0//EN
CALSCALE:GREGORIAN
METHOD:PUBLISH
X-ORIGINAL-URL:https://communityactionpartnership.com
X-WR-CALDESC:Events for National CAP
REFRESH-INTERVAL;VALUE=DURATION:PT1H
X-Robots-Tag:noindex
X-PUBLISHED-TTL:PT1H
BEGIN:VTIMEZONE
TZID:UTC
BEGIN:STANDARD
TZOFFSETFROM:+0000
TZOFFSETTO:+0000
TZNAME:UTC
DTSTART:20190101T000000
END:STANDARD
END:VTIMEZONE
BEGIN:VEVENT
DTSTART;TZID=UTC:20201210T140000
DTEND;TZID=UTC:20201210T153000
DTSTAMP:20260423T123404
CREATED:20201118T204406Z
LAST-MODIFIED:20201118T204406Z
UID:66925-1607608800-1607614200@communityactionpartnership.com
SUMMARY:Community Action Code of Ethics 101
DESCRIPTION:Join Denise Harlow\, CCAP and Renae Dismuke\, CCAP for a walk through and discussion about the Community Action Code of Ethics and how they apply to those working in Community Action and how they impact our daily work. The Code of Ethics is a core element of being a Community Action professional and this session will provide attendees a chance to review them in depth and ask questions. \nPresenters:\nDenise Harlow CCAP\, CEO\, National Community Action Partnership\nRenae Dismuke\, CCAP\, Project Director\, Community Action Association of Alabama; CCAP Commissioner \nRegister
URL:https://communityactionpartnership.com/event/community-action-code-of-ethics-101/
CATEGORIES:Webinars
END:VEVENT
END:VCALENDAR