BEGIN:VCALENDAR
VERSION:2.0
PRODID:-//National CAP - ECPv6.15.20//NONSGML v1.0//EN
CALSCALE:GREGORIAN
METHOD:PUBLISH
X-WR-CALNAME:National CAP
X-ORIGINAL-URL:https://communityactionpartnership.com
X-WR-CALDESC:Events for National CAP
REFRESH-INTERVAL;VALUE=DURATION:PT1H
X-Robots-Tag:noindex
X-PUBLISHED-TTL:PT1H
BEGIN:VTIMEZONE
TZID:UTC
BEGIN:STANDARD
TZOFFSETFROM:+0000
TZOFFSETTO:+0000
TZNAME:UTC
DTSTART:20190101T000000
END:STANDARD
END:VTIMEZONE
BEGIN:VEVENT
DTSTART;TZID=UTC:20201021T140000
DTEND;TZID=UTC:20201021T153000
DTSTAMP:20260423T152429
CREATED:20201013T204514Z
LAST-MODIFIED:20201013T204514Z
UID:66038-1603288800-1603294200@communityactionpartnership.com
SUMMARY:An Asset for Community Action’s Families: Resources at the Consumer Financial Protection Bureau
DESCRIPTION:Wednesday\, October 21 | 2pm ET/1pm CT/12pm MT/11am PT | Register \nWe know that COVID-19 has had a major impact on the lives of our most vulnerable families. One area of life that will be affected by the pandemic long after its health and economic impacts have begun to recede is families’ personal finances. The pandemic has stressed many families’ finances and credit in profound ways. Late rent payments\, potential evictions\, accruing utility/water payment balances\, credit card debt and other financial challenges have spiraled. What rights do people have? What tools/resources can help Community Action staff as we work with families to provide hope that they can build a solid financial future? The Consumer Financial Protection Bureau has many resources available to help\, and this webinar will provide an overview of these resources. Learn how! \nPresenters: Denise DeVaan\, Jill Wheeler\, Irene Skricki from CFPB
URL:https://communityactionpartnership.com/event/an-asset-for-community-actions-families-resources-at-the-consumer-financial-protection-bureau/
CATEGORIES:Webinars
END:VEVENT
END:VCALENDAR