BEGIN:VCALENDAR
VERSION:2.0
PRODID:-//National CAP - ECPv6.15.20//NONSGML v1.0//EN
CALSCALE:GREGORIAN
METHOD:PUBLISH
X-WR-CALNAME:National CAP
X-ORIGINAL-URL:https://communityactionpartnership.com
X-WR-CALDESC:Events for National CAP
REFRESH-INTERVAL;VALUE=DURATION:PT1H
X-Robots-Tag:noindex
X-PUBLISHED-TTL:PT1H
BEGIN:VTIMEZONE
TZID:UTC
BEGIN:STANDARD
TZOFFSETFROM:+0000
TZOFFSETTO:+0000
TZNAME:UTC
DTSTART:20190101T000000
END:STANDARD
END:VTIMEZONE
BEGIN:VEVENT
DTSTART;TZID=UTC:20200924T140000
DTEND;TZID=UTC:20200924T150000
DTSTAMP:20260423T180815
CREATED:20200904T152508Z
LAST-MODIFIED:20200904T152508Z
UID:65139-1600956000-1600959600@communityactionpartnership.com
SUMMARY:Effective Governance despite Challenging Times
DESCRIPTION:Digging Deeper into Organizational Standards 5.5\, 5.7\, & 5.8 \nOrganizational Standard 5.5 requires the governing board or advisory body to meet in accordance with the frequency and quorum requirements\, as well as fill board vacancies as set in the bylaws. This standard in particular can often present more of a challenge during times of crisis or inability to meet in-person\, such as the COVID-19 Pandemic. Board training and orientation (standards 5.7 and 5.8) can present similar challenges. Many Community Action Agencies (CAAs) have adapted to continue to meet these standards and develop creative strategies to effectively govern during challenging times. Join this webinar to learn more about covering board meetings during COVID-19\, including virtual meetings and compliance with open meeting laws – including specific CAA examples. \nRegister Here
URL:https://communityactionpartnership.com/event/effective-governance-despite-challenging-times/
CATEGORIES:Webinars
END:VEVENT
BEGIN:VEVENT
DTSTART;TZID=UTC:20200924T150000
DTEND;TZID=UTC:20200924T163000
DTSTAMP:20260423T180815
CREATED:20200615T151657Z
LAST-MODIFIED:20200615T151657Z
UID:63613-1600959600-1600965000@communityactionpartnership.com
SUMMARY:Census & Redistricting
DESCRIPTION:Join us for a conversation about how the 2020 Census could change Congressional\, state\, and local electoral districts\, and impact our communities for the next decade. Learn more about how you can get involved in the process\, so your community is fairly represented. \nRegister
URL:https://communityactionpartnership.com/event/census-redistricting/
CATEGORIES:Webinars
END:VEVENT
END:VCALENDAR