BEGIN:VCALENDAR
VERSION:2.0
PRODID:-//National CAP - ECPv6.15.20//NONSGML v1.0//EN
CALSCALE:GREGORIAN
METHOD:PUBLISH
X-WR-CALNAME:National CAP
X-ORIGINAL-URL:https://communityactionpartnership.com
X-WR-CALDESC:Events for National CAP
REFRESH-INTERVAL;VALUE=DURATION:PT1H
X-Robots-Tag:noindex
X-PUBLISHED-TTL:PT1H
BEGIN:VTIMEZONE
TZID:UTC
BEGIN:STANDARD
TZOFFSETFROM:+0000
TZOFFSETTO:+0000
TZNAME:UTC
DTSTART:20190101T000000
END:STANDARD
END:VTIMEZONE
BEGIN:VEVENT
DTSTART;TZID=UTC:20200923T140000
DTEND;TZID=UTC:20200923T153000
DTSTAMP:20260423T170135
CREATED:20200828T230357Z
LAST-MODIFIED:20200828T230357Z
UID:65123-1600869600-1600875000@communityactionpartnership.com
SUMMARY:Taking Action on Financial Well-Being in Times of Stress
DESCRIPTION:During this time of extreme uncertainty and hardship\, people’s main financial concerns are likely immediate and stressful. Practitioners\, however\, can still support action towards financial wellbeing through meaningful connection to the financial future people want. By bringing a mindset of equity to these conversations\, you can reduce anxiety and shame about money to help people feel more in control. This means shifting from an emphasis of personal responsibility to integrate how inequitable systems limit what choices are available to people. \nBased on recent research with practitioners in April and May 2020\, The Prosperity Agenda will share ways for organizations to deepen their financial conversations. For organizations who do not typically talk about money\, they’ll offer an accessible way to discuss money that acknowledges strengths and inequities. \nPresented by: The Prosperity Agenda \nRegister
URL:https://communityactionpartnership.com/event/taking-action-on-financial-well-being-in-times-of-stress/
CATEGORIES:Webinars
END:VEVENT
END:VCALENDAR