BEGIN:VCALENDAR
VERSION:2.0
PRODID:-//National CAP - ECPv6.15.20//NONSGML v1.0//EN
CALSCALE:GREGORIAN
METHOD:PUBLISH
X-ORIGINAL-URL:https://communityactionpartnership.com
X-WR-CALDESC:Events for National CAP
REFRESH-INTERVAL;VALUE=DURATION:PT1H
X-Robots-Tag:noindex
X-PUBLISHED-TTL:PT1H
BEGIN:VTIMEZONE
TZID:UTC
BEGIN:STANDARD
TZOFFSETFROM:+0000
TZOFFSETTO:+0000
TZNAME:UTC
DTSTART:20190101T000000
END:STANDARD
END:VTIMEZONE
BEGIN:VEVENT
DTSTART;TZID=UTC:20200901T140000
DTEND;TZID=UTC:20200901T153000
DTSTAMP:20260423T181123
CREATED:20200827T182307Z
LAST-MODIFIED:20200827T182307Z
UID:65108-1598968800-1598974200@communityactionpartnership.com
SUMMARY:State Policy Webinar Series #2 - State Partnerships with Head Start/Early Head Start to Build Resilient Systems for Children and Families
DESCRIPTION:Governors and state policymakers increasingly recognize the need to build early childhood systems that can weather economic and health crises\, such as COVID-19. When state leaders embrace Head Start and Early Head Start as a key community support\, children and families benefit from the exemplary comprehensive child and family services Head Start provides in times of need. \nOn this one-hour webinar\, learn from early childhood and Head Start leaders from Oklahoma\, Pennsylvania and Texas about how their states have partnered with HS and EHS programs through state funding\, cross-agency leadership and on-going efforts to build community strength and collaboration\, as well as the impact that has had on children and families. You will leave with a clear sense of how to advance partnerships in your state! \nThis webinar series is brought to you in partnership with the National Community Action Partnership and ZERO TO THREE and is the second in a three-part state policy webinar series. \n\nSpeaker line-up\n\nKaren Grimm-Thomas\, Director of External Relations\, Pennsylvania Office of Child Development and Early Learning\nKristina Ellis\, Director of Health and Collaborative Services\, CAP Tulsa\nAlferma Giles\, Director\, Texas Head Start State Collaboration Office\, University of Texas Health Science Center\n\n\n\nRegister
URL:https://communityactionpartnership.com/event/state-policy-webinar-series-2/
CATEGORIES:Webinars
END:VEVENT
END:VCALENDAR