BEGIN:VCALENDAR
VERSION:2.0
PRODID:-//National CAP - ECPv6.15.20//NONSGML v1.0//EN
CALSCALE:GREGORIAN
METHOD:PUBLISH
X-WR-CALNAME:National CAP
X-ORIGINAL-URL:https://communityactionpartnership.com
X-WR-CALDESC:Events for National CAP
REFRESH-INTERVAL;VALUE=DURATION:PT1H
X-Robots-Tag:noindex
X-PUBLISHED-TTL:PT1H
BEGIN:VTIMEZONE
TZID:UTC
BEGIN:STANDARD
TZOFFSETFROM:+0000
TZOFFSETTO:+0000
TZNAME:UTC
DTSTART:20190101T000000
END:STANDARD
END:VTIMEZONE
BEGIN:VEVENT
DTSTART;VALUE=DATE:20200810
DTEND;VALUE=DATE:20200815
DTSTAMP:20260423T193548
CREATED:20200312T195943Z
LAST-MODIFIED:20200312T195943Z
UID:60178-1597017600-1597449599@communityactionpartnership.com
SUMMARY:Energy OutWest Conference
DESCRIPTION:Register now for the upcoming Energy OutWest Conference\, August 10th – 14th\, 2020. The 2020 Energy OutWest Conference will be held at the Hilton Austin in Austin\, Texas. \nClick here to learn more and register.
URL:https://communityactionpartnership.com/event/energy-outwest-conference/
CATEGORIES:National Partner Events
END:VEVENT
BEGIN:VEVENT
DTSTART;TZID=UTC:20200814T080000
DTEND;TZID=UTC:20200814T170000
DTSTAMP:20260423T193548
CREATED:20200806T142443Z
LAST-MODIFIED:20200806T142757Z
UID:64709-1597392000-1597424400@communityactionpartnership.com
SUMMARY:Application Deadline: Regional Whole Family Approach Community of Practice
DESCRIPTION:Community-based human service organizations and tribal governments in the following states are invited to apply: Alaska\, Kentucky\, Minnesota\, Montana\, North Dakota\, South Dakota\, Washington\, and Wisconsin. \nThe Regional Whole Family Approach COP will support 6 community-based organizations\, including tribal governments\, in achieving greater results for families and communities by deploying a multi-pronged system of learning and support for organizations that are ready to pursue a Whole Family Approach that is strength-based\, trauma-informed\, and engages the entire community. \nPlease click here for additional details or to view the application
URL:https://communityactionpartnership.com/event/application-deadline-regional-whole-family-approach-community-of-practice/
END:VEVENT
END:VCALENDAR