BEGIN:VCALENDAR
VERSION:2.0
PRODID:-//National CAP - ECPv6.15.20//NONSGML v1.0//EN
CALSCALE:GREGORIAN
METHOD:PUBLISH
X-ORIGINAL-URL:https://communityactionpartnership.com
X-WR-CALDESC:Events for National CAP
REFRESH-INTERVAL;VALUE=DURATION:PT1H
X-Robots-Tag:noindex
X-PUBLISHED-TTL:PT1H
BEGIN:VTIMEZONE
TZID:UTC
BEGIN:STANDARD
TZOFFSETFROM:+0000
TZOFFSETTO:+0000
TZNAME:UTC
DTSTART:20190101T000000
END:STANDARD
END:VTIMEZONE
BEGIN:VEVENT
DTSTART;TZID=UTC:20200723T150000
DTEND;TZID=UTC:20200723T163000
DTSTAMP:20260423T222721
CREATED:20200701T182948Z
LAST-MODIFIED:20200701T182948Z
UID:63944-1595516400-1595521800@communityactionpartnership.com
SUMMARY:Community Action Network COVID-19 Town Hall
DESCRIPTION:Join Community Action National Partners CAP\, CAPLAW and NASCSP for an update on the impact of COVID-19 on the network. NCAF will participate as schedules allow. Please note that these meetings have been moved to every other Thursday. \nRegister
URL:https://communityactionpartnership.com/event/community-action-network-covid-19-town-hall/
CATEGORIES:Webinars
END:VEVENT
END:VCALENDAR