BEGIN:VCALENDAR
VERSION:2.0
PRODID:-//National CAP - ECPv6.15.20//NONSGML v1.0//EN
CALSCALE:GREGORIAN
METHOD:PUBLISH
X-WR-CALNAME:National CAP
X-ORIGINAL-URL:https://communityactionpartnership.com
X-WR-CALDESC:Events for National CAP
REFRESH-INTERVAL;VALUE=DURATION:PT1H
X-Robots-Tag:noindex
X-PUBLISHED-TTL:PT1H
BEGIN:VTIMEZONE
TZID:UTC
BEGIN:STANDARD
TZOFFSETFROM:+0000
TZOFFSETTO:+0000
TZNAME:UTC
DTSTART:20190101T000000
END:STANDARD
END:VTIMEZONE
BEGIN:VEVENT
DTSTART;TZID=UTC:20200526T140000
DTEND;TZID=UTC:20200526T153000
DTSTAMP:20260424T013645
CREATED:20200515T173623Z
LAST-MODIFIED:20200521T174729Z
UID:62172-1590501600-1590507000@communityactionpartnership.com
SUMMARY:Utility Debt in the Pandemic: How to Change Shutoff and Collection Policy
DESCRIPTION:Join in on this webinar hosted by the National Community Action Partnership and the National Community Action Foundation.  CAAs and other LIHEAP agencies foresee a coming tsunami of debt.  A few states have enlightened debt-management and forgiveness policies. If yours is not one of them\, this presentation by John Howat\, Senior Energy Analyst with the National Consumer Law Center (NCLC)\, will provide model approaches and what to present to state policy makers to win changes. You will learn how utilities finance  unpaid bills\, how to use NCLC’s new  templates for low-income utility program discount and arrearage management programs\, and actions you can take now to help customers in crisis. Can’t wait? See NCLC’s new COVID-19 resource collection. \nRegister here for the webinar.
URL:https://communityactionpartnership.com/event/utility-debt-in-pandemic/
CATEGORIES:Webinars
END:VEVENT
END:VCALENDAR