BEGIN:VCALENDAR
VERSION:2.0
PRODID:-//National CAP - ECPv6.15.20//NONSGML v1.0//EN
CALSCALE:GREGORIAN
METHOD:PUBLISH
X-WR-CALNAME:National CAP
X-ORIGINAL-URL:https://communityactionpartnership.com
X-WR-CALDESC:Events for National CAP
REFRESH-INTERVAL;VALUE=DURATION:PT1H
X-Robots-Tag:noindex
X-PUBLISHED-TTL:PT1H
BEGIN:VTIMEZONE
TZID:UTC
BEGIN:STANDARD
TZOFFSETFROM:+0000
TZOFFSETTO:+0000
TZNAME:UTC
DTSTART:20190101T000000
END:STANDARD
END:VTIMEZONE
BEGIN:VEVENT
DTSTART;TZID=UTC:20200506T140000
DTEND;TZID=UTC:20200506T153000
DTSTAMP:20260424T011723
CREATED:20200311T165430Z
LAST-MODIFIED:20200311T165430Z
UID:60140-1588773600-1588779000@communityactionpartnership.com
SUMMARY:Leading through Innovation Series: Featuring Central Missouri Community Action
DESCRIPTION:Register Here  \n 
URL:https://communityactionpartnership.com/event/leading-through-innovation-series-featuring-central-missouri-community-action/
CATEGORIES:Webinars
END:VEVENT
END:VCALENDAR