BEGIN:VCALENDAR
VERSION:2.0
PRODID:-//National CAP - ECPv6.15.20//NONSGML v1.0//EN
CALSCALE:GREGORIAN
METHOD:PUBLISH
X-WR-CALNAME:National CAP
X-ORIGINAL-URL:https://communityactionpartnership.com
X-WR-CALDESC:Events for National CAP
REFRESH-INTERVAL;VALUE=DURATION:PT1H
X-Robots-Tag:noindex
X-PUBLISHED-TTL:PT1H
BEGIN:VTIMEZONE
TZID:UTC
BEGIN:STANDARD
TZOFFSETFROM:+0000
TZOFFSETTO:+0000
TZNAME:UTC
DTSTART:20190101T000000
END:STANDARD
END:VTIMEZONE
BEGIN:VEVENT
DTSTART;TZID=UTC:20200504T150000
DTEND;TZID=UTC:20200504T163000
DTSTAMP:20260424T013645
CREATED:20200430T201619Z
LAST-MODIFIED:20200430T201930Z
UID:61843-1588604400-1588609800@communityactionpartnership.com
SUMMARY:Community Action Plan for COVID-19 Testing and Contact Tracing
DESCRIPTION:The National Community Action Partnership has drafted a concept paper to work with public health partners to break the chain of COVID-19 transmission and prevent the need for future lockdowns through a coordinated case-finding and contact-tracing effort. \nWhile many individuals who can work from home and have healthy support systems are able to quarantine successfully without too much disruption to their lives and families\, for families with low incomes\, additional quarantine orders will likely result in serious financial challenges. Because Community Action Agencies (CAAs) are well positioned to contract with state and local health departments\, we have a unique opportunity to help ensure a rapid and successful launch of the contact tracing and resource coordination efforts necessary in order prevent further lockdowns. \nPlease join us for a discussion on how best we can collaborate in this effort. \nRegister \n 
URL:https://communityactionpartnership.com/event/community-action-plan-for-covid-19-testing-and-contact-tracing/
CATEGORIES:Webinars
END:VEVENT
END:VCALENDAR