BEGIN:VCALENDAR
VERSION:2.0
PRODID:-//National CAP - ECPv6.15.20//NONSGML v1.0//EN
CALSCALE:GREGORIAN
METHOD:PUBLISH
X-WR-CALNAME:National CAP
X-ORIGINAL-URL:https://communityactionpartnership.com
X-WR-CALDESC:Events for National CAP
REFRESH-INTERVAL;VALUE=DURATION:PT1H
X-Robots-Tag:noindex
X-PUBLISHED-TTL:PT1H
BEGIN:VTIMEZONE
TZID:UTC
BEGIN:STANDARD
TZOFFSETFROM:+0000
TZOFFSETTO:+0000
TZNAME:UTC
DTSTART:20190101T000000
END:STANDARD
END:VTIMEZONE
BEGIN:VEVENT
DTSTART;TZID=UTC:20200409T140000
DTEND;TZID=UTC:20200409T153000
DTSTAMP:20260424T030302
CREATED:20200312T172544Z
LAST-MODIFIED:20200312T172646Z
UID:60163-1586440800-1586446200@communityactionpartnership.com
SUMMARY:Weatherization and the 2020 Census
DESCRIPTION:Census data determines funding for the Weatherization Assistance Program (WAP) and the customers you serve will be affected if we don’t get an accurate count of the population. Join the national Community Action Partnership to learn more about how your weatherization program can promote engagement in the 2020 Census before it’s too late! \nRegister
URL:https://communityactionpartnership.com/event/weatherization-and-the-2020-census/
CATEGORIES:Webinars
END:VEVENT
BEGIN:VEVENT
DTSTART;TZID=UTC:20200409T150000
DTEND;TZID=UTC:20200409T163000
DTSTAMP:20260424T030302
CREATED:20200327T193150Z
LAST-MODIFIED:20200331T214311Z
UID:60558-1586444400-1586449800@communityactionpartnership.com
SUMMARY:Community Action Network COVID-19 Weekly Update
DESCRIPTION:Join Community Action National Partners CAP\, CAPLAW and NASCSP for a weekly update on the impact of COVID-19 on the network\, taking place every Thursday at 3 ET / 2 CT / 1 MT / 12 PT (3 AST / 10 AKST / 9 HST) beginning on April 2\, 2020. \nThe content for these national partner calls will vary from week to week and the calls are intended to be a standing meeting for the Network to share information and hear about issues as needed. There will be no standing agenda\, per se\, and it will vary depending on the given issues at the moment. Those who can attend are welcome to do so and this is open to the entire Community Action Network. These meetings will likely go beyond the four weeks\, but we will assess the frequency\, accessibility\, and usefulness to ensure the next phase of meetings meets the Network’s needs. \nThere will still be other webinars offered by the National Partners on specific content and we recognize that the information coming at all of us right now is like a fire hose. We will do our best to make the best use of our communication with you. \nWhile we may be physically distant\, it is imperative that we stay connected during this time. We want to hear from you and be able to share information during this challenging time. \nEach session will allow for questions to be submitted and we will do our best to address them. \nCommunity Action cares about the entire community. And now more than ever we are helping people help themselves and each other. Thank you for all you are doing. \nREGISTER: April 9 | April 16 | April 23
URL:https://communityactionpartnership.com/event/community-action-network-covid-19-weekly-update-2/
CATEGORIES:Webinars
END:VEVENT
END:VCALENDAR