BEGIN:VCALENDAR
VERSION:2.0
PRODID:-//National CAP - ECPv6.15.20//NONSGML v1.0//EN
CALSCALE:GREGORIAN
METHOD:PUBLISH
X-WR-CALNAME:National CAP
X-ORIGINAL-URL:https://communityactionpartnership.com
X-WR-CALDESC:Events for National CAP
REFRESH-INTERVAL;VALUE=DURATION:PT1H
X-Robots-Tag:noindex
X-PUBLISHED-TTL:PT1H
BEGIN:VTIMEZONE
TZID:UTC
BEGIN:STANDARD
TZOFFSETFROM:+0000
TZOFFSETTO:+0000
TZNAME:UTC
DTSTART:20190101T000000
END:STANDARD
END:VTIMEZONE
BEGIN:VEVENT
DTSTART;TZID=UTC:20200130T140000
DTEND;TZID=UTC:20200130T153000
DTSTAMP:20260424T074711
CREATED:20200115T172523Z
LAST-MODIFIED:20200115T172523Z
UID:59203-1580392800-1580398200@communityactionpartnership.com
SUMMARY:Springfield College Opportunity Webinar
DESCRIPTION:Community Action Partnership and Springfield College School of Professional and Continuing Studies have solidified an agreement in which staff employed by member Agencies of the Partnership can access education and training opportunities. Specifically\, staff enrolled in Springfield College School of Professional and Continuing Studies can earn undergraduate credits for completing training modules offered by the Partnership (ROMA – 6 Credits\, Strengths-Based Family Workers – 4 Credits\, Family Development Credential – 6 Credits). \nRegister
URL:https://communityactionpartnership.com/event/springfield-college-opportunity-webinar/
CATEGORIES:Webinars
END:VEVENT
END:VCALENDAR