BEGIN:VCALENDAR
VERSION:2.0
PRODID:-//National CAP - ECPv6.15.20//NONSGML v1.0//EN
CALSCALE:GREGORIAN
METHOD:PUBLISH
X-WR-CALNAME:National CAP
X-ORIGINAL-URL:https://communityactionpartnership.com
X-WR-CALDESC:Events for National CAP
REFRESH-INTERVAL;VALUE=DURATION:PT1H
X-Robots-Tag:noindex
X-PUBLISHED-TTL:PT1H
BEGIN:VTIMEZONE
TZID:UTC
BEGIN:STANDARD
TZOFFSETFROM:+0000
TZOFFSETTO:+0000
TZNAME:UTC
DTSTART:20180101T000000
END:STANDARD
END:VTIMEZONE
BEGIN:VEVENT
DTSTART;TZID=UTC:20191115T130000
DTEND;TZID=UTC:20191115T143000
DTSTAMP:20260424T114518
CREATED:20191113T153800Z
LAST-MODIFIED:20191113T153800Z
UID:58542-1573822800-1573828200@communityactionpartnership.com
SUMMARY:CSBG Annual Report:  OMB Clearance
DESCRIPTION:Please join the National Community Action Partnership for this important webinar on the OMB Clearance for the CSBG Annual Report. The Partnership has been gathering input from the CSBG Network regarding the changes noted in Module 1 that OCS is requesting feedback on. This webinar will cover the proposed changes\, the Partnership’s perspective\, and the letter being drafted for sign-on prior to the December 1st comment deadline. \nRegister
URL:https://communityactionpartnership.com/event/csbg-annual-report-omb-clearance/
CATEGORIES:Webinars
END:VEVENT
END:VCALENDAR