BEGIN:VCALENDAR
VERSION:2.0
PRODID:-//National CAP - ECPv6.15.20//NONSGML v1.0//EN
CALSCALE:GREGORIAN
METHOD:PUBLISH
X-ORIGINAL-URL:https://communityactionpartnership.com
X-WR-CALDESC:Events for National CAP
REFRESH-INTERVAL;VALUE=DURATION:PT1H
X-Robots-Tag:noindex
X-PUBLISHED-TTL:PT1H
BEGIN:VTIMEZONE
TZID:UTC
BEGIN:STANDARD
TZOFFSETFROM:+0000
TZOFFSETTO:+0000
TZNAME:UTC
DTSTART:20180101T000000
END:STANDARD
END:VTIMEZONE
BEGIN:VEVENT
DTSTART;TZID=UTC:20191106T140000
DTEND;TZID=UTC:20191106T153000
DTSTAMP:20260424T133146
CREATED:20190926T201209Z
LAST-MODIFIED:20190926T201209Z
UID:54895-1573048800-1573054200@communityactionpartnership.com
SUMMARY:CCAP - Candidate Data Form (CDF)
DESCRIPTION:Completing the Candidate Data Form (CDF) is the first step in the process of becoming a Certified Community Action Professional (CCAP). It is in a formatted for you to document your learning and experiences in the field of Community Action. In this webinar you can explore the parts of the CDF in great detail. You will gain valuable insights on how you can complete your own first step toward national recognition as a CCAP. \nRegister
URL:https://communityactionpartnership.com/event/ccap-candidate-data-form-cdf/
CATEGORIES:Webinars
END:VEVENT
END:VCALENDAR