BEGIN:VCALENDAR
VERSION:2.0
PRODID:-//National CAP - ECPv6.15.20//NONSGML v1.0//EN
CALSCALE:GREGORIAN
METHOD:PUBLISH
X-WR-CALNAME:National CAP
X-ORIGINAL-URL:https://communityactionpartnership.com
X-WR-CALDESC:Events for National CAP
REFRESH-INTERVAL;VALUE=DURATION:PT1H
X-Robots-Tag:noindex
X-PUBLISHED-TTL:PT1H
BEGIN:VTIMEZONE
TZID:UTC
BEGIN:STANDARD
TZOFFSETFROM:+0000
TZOFFSETTO:+0000
TZNAME:UTC
DTSTART:20180101T000000
END:STANDARD
END:VTIMEZONE
BEGIN:VEVENT
DTSTART;TZID=UTC:20190313T140000
DTEND;TZID=UTC:20190313T153000
DTSTAMP:20260425T012730
CREATED:20190301T194435Z
LAST-MODIFIED:20190301T194435Z
UID:51664-1552485600-1552491000@communityactionpartnership.com
SUMMARY:Whole Family Approach Practice Transformation Stories
DESCRIPTION:Over the last year\, several Community Action Agencies have participated in the Whole Family Approach Community of Practice as a part of the Community Action Economic Mobility Initiative\, funded by the Annie E. Casey Foundation.  Join us from the second installment of this mini-series to hear from Network members – Metropolitan Action Commission\, Central Missouri Community Action\, and Community Action\, Inc.  – as they share their learning and transformation as they’ve worked to implement a whole family approach. Resources and takeaways for replication in other CAAs will be shared.\n\nRegister
URL:https://communityactionpartnership.com/event/whole-family-approach-practice-transformation-stories/
CATEGORIES:Webinars
END:VEVENT
END:VCALENDAR