BEGIN:VCALENDAR
VERSION:2.0
PRODID:-//National CAP - ECPv6.15.20//NONSGML v1.0//EN
CALSCALE:GREGORIAN
METHOD:PUBLISH
X-ORIGINAL-URL:https://communityactionpartnership.com
X-WR-CALDESC:Events for National CAP
REFRESH-INTERVAL;VALUE=DURATION:PT1H
X-Robots-Tag:noindex
X-PUBLISHED-TTL:PT1H
BEGIN:VTIMEZONE
TZID:America/New_York
BEGIN:DAYLIGHT
TZOFFSETFROM:-0500
TZOFFSETTO:-0400
TZNAME:EDT
DTSTART:20170312T070000
END:DAYLIGHT
BEGIN:STANDARD
TZOFFSETFROM:-0400
TZOFFSETTO:-0500
TZNAME:EST
DTSTART:20171105T060000
END:STANDARD
BEGIN:DAYLIGHT
TZOFFSETFROM:-0500
TZOFFSETTO:-0400
TZNAME:EDT
DTSTART:20180311T070000
END:DAYLIGHT
BEGIN:STANDARD
TZOFFSETFROM:-0400
TZOFFSETTO:-0500
TZNAME:EST
DTSTART:20181104T060000
END:STANDARD
BEGIN:DAYLIGHT
TZOFFSETFROM:-0500
TZOFFSETTO:-0400
TZNAME:EDT
DTSTART:20190310T070000
END:DAYLIGHT
BEGIN:STANDARD
TZOFFSETFROM:-0400
TZOFFSETTO:-0500
TZNAME:EST
DTSTART:20191103T060000
END:STANDARD
END:VTIMEZONE
BEGIN:VEVENT
DTSTART;TZID=America/New_York:20180815T140000
DTEND;TZID=America/New_York:20180815T153000
DTSTAMP:20260425T124219
CREATED:20180713T225834Z
LAST-MODIFIED:20180713T225834Z
UID:8225-1534341600-1534347000@communityactionpartnership.com
SUMMARY:Evaluating Collective Impact
DESCRIPTION:Measuring and communicating about the progress of a collective impact initiative is different than evaluating the work of a single organization or program. This webinar will provide a framework for assessing the progress\, effectiveness\, and impact of collective impact efforts. We will define the relationship between shared measurement and evaluation\, and talk about what types of results to expect at different stages of an initiative. \nRegister
URL:https://communityactionpartnership.com/event/evaluating-collective-impact/
CATEGORIES:Webinars
END:VEVENT
END:VCALENDAR