BEGIN:VCALENDAR
VERSION:2.0
PRODID:-//National CAP - ECPv6.15.20//NONSGML v1.0//EN
CALSCALE:GREGORIAN
METHOD:PUBLISH
X-ORIGINAL-URL:https://communityactionpartnership.com
X-WR-CALDESC:Events for National CAP
REFRESH-INTERVAL;VALUE=DURATION:PT1H
X-Robots-Tag:noindex
X-PUBLISHED-TTL:PT1H
BEGIN:VTIMEZONE
TZID:UTC
BEGIN:STANDARD
TZOFFSETFROM:+0000
TZOFFSETTO:+0000
TZNAME:UTC
DTSTART:20170101T000000
END:STANDARD
END:VTIMEZONE
BEGIN:VEVENT
DTSTART;TZID=UTC:20180814T140000
DTEND;TZID=UTC:20180814T153000
DTSTAMP:20260425T124220
CREATED:20180810T203654Z
LAST-MODIFIED:20180810T203654Z
UID:9282-1534255200-1534260600@communityactionpartnership.com
SUMMARY:Virtual Tour of the CNA Online Data Hub through the Engagement Network
DESCRIPTION:The Partnership will host the Center for Applied Research and Engagement Systems (CARES) on August 14th at 2pm ET for an online tour of the new hub where the Community Needs Assessment (CNA) Online Data Tool is housed. They will give an overview of the enhanced functionality for secondary data collection. Specifically\, you’ll see updated mapping and reporting environments\, easier access to data downloads\, and streamlined navigation. \nPresenter: Jamie Kleinsorge\, CARES \nRegister here.
URL:https://communityactionpartnership.com/event/virtual-tour-of-the-cna-online-data-hub-through-the-engagement-network/
END:VEVENT
END:VCALENDAR