BEGIN:VCALENDAR
VERSION:2.0
PRODID:-//National CAP - ECPv6.15.20//NONSGML v1.0//EN
CALSCALE:GREGORIAN
METHOD:PUBLISH
X-WR-CALNAME:National CAP
X-ORIGINAL-URL:https://communityactionpartnership.com
X-WR-CALDESC:Events for National CAP
REFRESH-INTERVAL;VALUE=DURATION:PT1H
X-Robots-Tag:noindex
X-PUBLISHED-TTL:PT1H
BEGIN:VTIMEZONE
TZID:UTC
BEGIN:STANDARD
TZOFFSETFROM:+0000
TZOFFSETTO:+0000
TZNAME:UTC
DTSTART:20170101T000000
END:STANDARD
END:VTIMEZONE
BEGIN:VEVENT
DTSTART;TZID=UTC:20180808T140000
DTEND;TZID=UTC:20180808T153000
DTSTAMP:20260425T124229
CREATED:20180807T165244Z
LAST-MODIFIED:20180807T165244Z
UID:9246-1533736800-1533742200@communityactionpartnership.com
SUMMARY:CAP Agencies and Balance of State CoCs: Ending Homelessness through Collaboration
DESCRIPTION:CAP agencies play a critical role in ending homelessness nationwide and can be an important partner in Balance of State Continuums of Care. Learn how two Balance of State CoCs are collaborating with CAP agencies in taking a systems approach to ending homelessness in rural areas. \n  \nRegister
URL:https://communityactionpartnership.com/event/cap-agencies-and-balance-of-state-cocs-ending-homelessness-through-collaboration/
CATEGORIES:Webinars
END:VEVENT
END:VCALENDAR