BEGIN:VCALENDAR
VERSION:2.0
PRODID:-//National CAP - ECPv6.15.20//NONSGML v1.0//EN
CALSCALE:GREGORIAN
METHOD:PUBLISH
X-ORIGINAL-URL:https://communityactionpartnership.com
X-WR-CALDESC:Events for National CAP
REFRESH-INTERVAL;VALUE=DURATION:PT1H
X-Robots-Tag:noindex
X-PUBLISHED-TTL:PT1H
BEGIN:VTIMEZONE
TZID:America/New_York
BEGIN:DAYLIGHT
TZOFFSETFROM:-0500
TZOFFSETTO:-0400
TZNAME:EDT
DTSTART:20170312T070000
END:DAYLIGHT
BEGIN:STANDARD
TZOFFSETFROM:-0400
TZOFFSETTO:-0500
TZNAME:EST
DTSTART:20171105T060000
END:STANDARD
BEGIN:DAYLIGHT
TZOFFSETFROM:-0500
TZOFFSETTO:-0400
TZNAME:EDT
DTSTART:20180311T070000
END:DAYLIGHT
BEGIN:STANDARD
TZOFFSETFROM:-0400
TZOFFSETTO:-0500
TZNAME:EST
DTSTART:20181104T060000
END:STANDARD
BEGIN:DAYLIGHT
TZOFFSETFROM:-0500
TZOFFSETTO:-0400
TZNAME:EDT
DTSTART:20190310T070000
END:DAYLIGHT
BEGIN:STANDARD
TZOFFSETFROM:-0400
TZOFFSETTO:-0500
TZNAME:EST
DTSTART:20191103T060000
END:STANDARD
END:VTIMEZONE
BEGIN:VEVENT
DTSTART;TZID=America/New_York:20180801T140000
DTEND;TZID=America/New_York:20180801T153000
DTSTAMP:20260425T124220
CREATED:20180718T225121Z
LAST-MODIFIED:20180718T225121Z
UID:8728-1533132000-1533137400@communityactionpartnership.com
SUMMARY:Planning for Service Integration: Using a Multidisciplinary Team Approach
DESCRIPTION:UC Davis Extension’s Center for Human Services will be sharing their expertise around service integration\, specifically on staffing models and team roles for integrating services.  Join this webinar to learn ways to work together more efficiently to provide better customer service and achieve improved agency-wide outcomes.  Topics such as team dynamics\, communication\, supervision of integrated teams\, avoiding duplication\, and overcoming barriers to coordination will be discussed.  UC Davis will also share lessons learned from their work throughout the state of California. \nPresenters:  Jane L Tabor-Bane & Jarred C Vermillion (Dianne Thompson\, Contributor) \nRegister
URL:https://communityactionpartnership.com/event/planning-for-service-integration-using-a-multidisciplinary-team-approach/
CATEGORIES:Webinars
END:VEVENT
END:VCALENDAR